BEGIN:VCALENDAR
VERSION:2.0
CALSCALE:GREGORIAN
PRODID:-//Diputació de Barcelona//DibaCMS//EN
BEGIN:VEVENT
UID:5061
DTSTAMP:20260424T053535
DTSTART:20230728T123000
DTEND:20230728T130000
SUMMARY:28 de juliol Comissió especial de comptes 12:30h
LOCATION:08789 Torre de Claramunt
METHOD:PUBLISH
X-WR-CALNAME:torre@diba.cat
X-WR-TIMEZONE:Europe/Madrid
DESCRIPTION:
URI:https://www.latorredeclaramunt.cat/ajuntament/alcaldia/agenda-politica-de-lalcaldia/28-de-juliol-comissio-especial-de-comptes-1230h.html
CLASS:PUBLIC
END:VEVENT
END:VCALENDAR
