BEGIN:VCALENDAR
VERSION:2.0
CALSCALE:GREGORIAN
PRODID:-//Diputació de Barcelona//DibaCMS//EN
BEGIN:VEVENT
UID:4906
DTSTAMP:20260425T133151
DTSTART:20221213T120000
DTEND:20221213T140000
SUMMARY:13 de desembre : L'alcalde ha estat convocat a la junta general de aqüifer Carme- Capellades
LOCATION:08789 Torre de Claramunt
METHOD:PUBLISH
X-WR-CALNAME:torre@diba.cat
X-WR-TIMEZONE:Europe/Madrid
DESCRIPTION:
URI:https://www.latorredeclaramunt.cat/ajuntament/alcaldia/agenda-politica-de-lalcaldia/13-de-desembre--lalcalde-ha-estat-convocat-a-la-junta-general-de-aquifer-carme-capellades.html
CLASS:PUBLIC
END:VEVENT
END:VCALENDAR
