BEGIN:VCALENDAR
VERSION:2.0
CALSCALE:GREGORIAN
PRODID:-//Diputació de Barcelona//DibaCMS//EN
BEGIN:VEVENT
UID:4846
DTSTAMP:20260420T104227
DTSTART:20221130T190000
DTEND:20221130T200000
SUMMARY:30 novembre Junta de Portaveus 
LOCATION:08789 Torre de Claramunt
METHOD:PUBLISH
X-WR-CALNAME:torre@diba.cat
X-WR-TIMEZONE:Europe/Madrid
DESCRIPTION:
URI:https://www.latorredeclaramunt.cat/ajuntament/alcaldia/agenda-politica-de-lalcaldia/30-novembre-junta-de-portaveus-.html
CLASS:PUBLIC
END:VEVENT
END:VCALENDAR
