BEGIN:VCALENDAR
VERSION:2.0
CALSCALE:GREGORIAN
PRODID:-//Diputació de Barcelona//DibaCMS//EN
BEGIN:VEVENT
UID:2956
DTSTAMP:20260423T105824
DTSTART:20180929T000000
DTEND:20180930T000000
SUMMARY:29 i 30 excursió a Sort-Vielha i Banyeres de Luchón
LOCATION:08789 Torre de Claramunt
METHOD:PUBLISH
X-WR-CALNAME:torre@diba.cat
X-WR-TIMEZONE:Europe/Madrid
DESCRIPTION:Dia 29 :Parada a prop de Mollerussa per esmorzar. Seguirem fins a  Sort on disposarem de temps per  qui desitgi comprar loteria de la bruixa d’or, i dinarem per la zona. Després de la sobretaula seguirem pel Port de la Bonaigua gaudint dels magnífics paisatges fins Vielha, on ens acomodarem a l'hotel Husa Tuca ****.

Dia 30: Després de l'esmorzar sortirem fins Bagneres de Luchón on en un trenet turístic farem una passejada per gaudir dels seus paisatges i la bonica població. Tornarem a vielha per dinar al mateix hotel i  tornarem pel túnel cap el nostre destí

URI:https://www.latorredeclaramunt.cat/actualitat/agenda/29-i-30-excursio-a-sort-vielha-i-banyeres-de-luchon.html
CLASS:PUBLIC
END:VEVENT
END:VCALENDAR
