BEGIN:VCALENDAR
VERSION:2.0
CALSCALE:GREGORIAN
PRODID:-//Diputació de Barcelona//DibaCMS//EN
BEGIN:VEVENT
UID:1629
DTSTAMP:20260421T024915
DTSTART:20120505T000000
DTEND:20120505T000000
SUMMARY:Festa de la Gent Gran 2012
LOCATION:
METHOD:PUBLISH
X-WR-CALNAME:torre@diba.cat
X-WR-TIMEZONE:Europe/Madrid
DESCRIPTION:
URI:https://www.latorredeclaramunt.cat/actualitat/agenda/festa-de-la-gent-gran-2012.html
CLASS:PUBLIC
END:VEVENT
END:VCALENDAR
