BEGIN:VCALENDAR
VERSION:2.0
CALSCALE:GREGORIAN
PRODID:-//Diputació de Barcelona//DibaCMS//EN
BEGIN:VEVENT
UID:11555
DTSTAMP:20260422T062853
DTSTART:20260420T080000
DTEND:20260518T150000
SUMMARY:Excursió Montserrat 2026
LOCATION:08789 Torre de Claramunt
METHOD:PUBLISH
X-WR-CALNAME:torre@diba.cat
X-WR-TIMEZONE:Europe/Madrid
DESCRIPTION:
URI:https://www.latorredeclaramunt.cat/actualitat/agenda/excursio-montserrat-2026.html
CLASS:PUBLIC
END:VEVENT
END:VCALENDAR
