BEGIN:VCALENDAR
VERSION:2.0
CALSCALE:GREGORIAN
PRODID:-//Diputació de Barcelona//DibaCMS//EN
BEGIN:VEVENT
UID:11552
DTSTAMP:20260423T003035
DTSTART:20260421T110000
DTEND:20260605T220000
SUMMARY:Parlem-ne, t'escoltem 2026 !
LOCATION:08789 Torre de Claramunt
METHOD:PUBLISH
X-WR-CALNAME:torre@diba.cat
X-WR-TIMEZONE:Europe/Madrid
DESCRIPTION:
URI:https://www.latorredeclaramunt.cat/actualitat/agenda/parlem-ne-tescoltem-2026-.html
CLASS:PUBLIC
END:VEVENT
END:VCALENDAR
